BEGIN:VCALENDAR
VERSION:2.0
PRODID:icalendar-ruby
CALSCALE:GREGORIAN
BEGIN:VEVENT
DTSTAMP:20260422T140740Z
UID:df933283-4fce-478f-a1dc-81e8f2a9ffba
DTSTART;VALUE=DATE:20230208
DESCRIPTION:Property ID# 550159\, Locatoin: In Rooms Ray White Officed  4e 
 Kitchener Road Sandringham  \, Time: 4:00PM
SUMMARY:Auction for 
END:VEVENT
END:VCALENDAR
